BEGIN:VCALENDAR
VERSION:2.0
PRODID:-//Regeneration International - ECPv5.11.0//NONSGML v1.0//EN
CALSCALE:GREGORIAN
METHOD:PUBLISH
X-WR-CALNAME:Regeneration International
X-ORIGINAL-URL:https://regenerationinternational.org
X-WR-CALDESC:Events for Regeneration International
BEGIN:VTIMEZONE
TZID:America/New_York
BEGIN:DAYLIGHT
TZOFFSETFROM:-0500
TZOFFSETTO:-0400
TZNAME:EDT
DTSTART:20230312T070000
END:DAYLIGHT
BEGIN:STANDARD
TZOFFSETFROM:-0400
TZOFFSETTO:-0500
TZNAME:EST
DTSTART:20231105T060000
END:STANDARD
END:VTIMEZONE
BEGIN:VEVENT
DTSTART;VALUE=DATE:20230202
DTEND;VALUE=DATE:20230204
DTSTAMP:20230214T183144
CREATED:20230124T182618Z
LAST-MODIFIED:20230124T182618Z
UID:679560-1675296000-1675468799@regenerationinternational.org
SUMMARY:Dr. Christine Jones regenerative farming systems workshops
DESCRIPTION:Dr Christine Jones is an internationally renowned and highly respected groundcover and soil ecologist. She has been working with innovative landholders to implement regenerative land management practices that enhance biodiversity\, increase biological activity\, sequester carbon\, activate soil nutrient cycles\, restore water balance\, improve productivity and create new topsoil. \nRegenerative farming workshops and masterclasses will be run from Torbay to Margaret River\, from Dandaragan to the Perth Hills. These workshops will explore soil biology and offer practical advice for farmers to increase their profit and productivity by implementing regenerative agriculture practices. \nTour event dates and locations: \nFebruary 2nd: Margaret River – Soil Secrets – The Fundamentals for Building Profit\, Productivity & Natural Capital \nFebruary 3rd: Scott River – Regenerative Agriculture in Practice Project Group closed peer group Masterclass – SOLD OUT \nFebruary 7th: Bridgetown – Resilience through diversity \nFebruary 10th: Torbay – Profit\, Productivity and Natural Capital for the South Coast of WA \nFebruary 11th: Marbelup – Farming for Profit and Productivity Masterclass – SOLD OUT \nFebruary 14th: Dandaragan – Healthy Farming Pathways Workshop \nFebruary 16th: Perth Hills – Perth Hills and Swan Valley Regenerative farming for Perennial Horticulture \nFebruary 18th: Serpentine – The importance of multispecies groundcover \nChristine has organised and participated in workshops\, field days\, seminars and conferences throughout Australia\, New Zealand\, South Africa\, Zimbabwe\, Western Europe\, Central America\, USA and Canada.
URL:https://regenerationinternational.org/event/dr-christine-jones-regenerative-farming-systems-workshops/
LOCATION:Serpentine\, Regional\, WA
CATEGORIES:Event
ATTACH;FMTTYPE=image/png:https://regenerationinternational.org/wp-content/uploads/2018/10/calendar-2.png
END:VEVENT
END:VCALENDAR