BEGIN:VCALENDAR
VERSION:2.0
PRODID:-//Regeneration International - ECPv5.11.0//NONSGML v1.0//EN
CALSCALE:GREGORIAN
METHOD:PUBLISH
X-WR-CALNAME:Regeneration International
X-ORIGINAL-URL:https://regenerationinternational.org
X-WR-CALDESC:Events for Regeneration International
BEGIN:VTIMEZONE
TZID:America/New_York
BEGIN:DAYLIGHT
TZOFFSETFROM:-0500
TZOFFSETTO:-0400
TZNAME:EDT
DTSTART:20230312T070000
END:DAYLIGHT
BEGIN:STANDARD
TZOFFSETFROM:-0400
TZOFFSETTO:-0500
TZNAME:EST
DTSTART:20231105T060000
END:STANDARD
END:VTIMEZONE
BEGIN:VEVENT
DTSTART;VALUE=DATE:20230207
DTEND;VALUE=DATE:20230208
DTSTAMP:20230214T182941
CREATED:20230114T233206Z
LAST-MODIFIED:20230114T233206Z
UID:679467-1675728000-1675814399@regenerationinternational.org
SUMMARY:VIII Diplomado Internacional en Agricultura Orgánica\, Permacultura\, Cromatografía y Microbiología de Suelos\, del 07 de Febrero al 18 de Febrero del 2023
DESCRIPTION:Parte de nuestra naturaleza como seres humanos es ser innovadores para lograr un objetivo\nconcreto: Prevalecer. Esta misma esencia\, la de preservar\, actualmente está colocando sus ojos\nsobre la tendencia mundial a impulsar y valorar el potencial de los minerales y demás nutrientes\nque están presentes en los cultivos realizados por medio de la Agricultura Orgánica. \n​Esto\, como una estrategia para el fortalecimiento de nuestra vida en todos sus aspectos\, la\nAgricultura Orgánica cubre 3 características principales:​ \n\n\nFuente de alimentos locales: Necesarios para crear una estrategia de Seguridad Alimentaria Local/Regional \n\n\nGeneradora de conservación y recuperación de ecosistemas: Por su bajo o nulo consumo energético\, lo cual equilibra la micro y macro biota. \n\n\nCreadora sin par de: Vínculos para acceder a los saberes ancestrales\, el uso de plantas medicinales\, la conservación y recuperación de semilla nativa. \n\n\n“Lo cual construye la Identidad Local” \nCabe destacar que\, en el ámbito económico\, refresca por su alto potencial\, las alternativas de negocios sostenibles e innovadores. \nEl reto y a la vez oportunidad para el campo\, es la adopción de tecnologías adecuadas\, unidas a la recuperación y fortalecimiento del conocimiento ancestral. En este escenario esperanzador y ante la fragilidad que en materia alimentaría existe a nivel mundial\, se realizará el VIII Diplomado Internacional en Agricultura Orgánica\, Permacultura\, Cromatografía y Microbiología de Suelos\, del 07 de Febrero al 18 de Febrero del 2023\, teniendo como sede la Universidad Politécnica de Quintana Roo\, en el mágico pueblo de Bacalar \, Quintana Roo y somos: \n\n\nDiplomado en Agricultura Orgánica y Permacultura www.diplomadospermacultura.com \n\n\nFacebook: Diplomado en Agricultura Orgánica y Permacultura \n\n\nFundación Sel Ba (México) www.selba.org.mx \n\n\nIng. Jairo Restrepo Rivera www.lamierdadevaca.com (Cali\, Colombia) \n\n\nIng. Ignacio Simón: www.gaiaorganicos.com.mx (Michoacán\, México) \n\n\nIng. Ricardo Romero: www.bosquedeniebla.com.mx ( Veracruz\, México) \n\n\nIng. Marco Berumen; Facebook: Kali Tlali Permacultura (CDMX) \n\n\nHotel Casa Lamat www.casalamat.mx (Bacalar\, México) \n\n\n​OBJETIVO GENERAL \nEl objetivo de éste Diplomado es ofrecer a los participantes\, las herramientas que los capaciten\npara aprovechar el potencial energético de los recursos naturales locales disponibles\, mediante la aplicación de Agro Técnicas que les permitan elaborar una amplia variedad de insumos (abonos\, bio fertilizantes\, caldos minerales y repelentes de insectos naturales) mejorando asi la salud de los ecosistemas y la propia. Diseñar una unidad de producción bajo los elementos básicos de la Agricultura Orgánica\, la Microbiología de Suelos los principios de la Permacultura y la Bio construcción. \n​Objetivos Específicos \n​Que los y las participantes sean capaces de: \n\n\nDiseñar espacios sostenibles permanentes con elementos bio-naturales. \n\n\nRealizar análisis de suelo a muy bajo costo \n\n\nIntegrar nuevas metodologías para la conservación de suelos\, la biodiversidad y agua de la región. \n\n\nCrear nuevas fórmulas para el control natural de plagas. \n\n\nUtilizar nuevos nutrientes para la creación de Bio-fertilizantes. \n\n\nRecuperar y almacenar la semilla de producción local. \n\n\nMejorar la calidad y cantidad de las diferentes cosechas locales. \n\n\nCrear redes de intercambio solidarios (productos\, semillas\, servicios) \n\n\nMejorar y regenerar la salud de los ecosistemas y la salud personal y de la familia \n\n\nLos y las participantes serán capaces de tomar decisiones acertadas con criterios ambientales correctos para:​ \n\n\nUn adecuado diseño del espacio de cultivo\, \n\n\nUn óptimo uso del tiempo y conocimiento de los ciclos naturales\, \n\n\nEl uso apropiado de sus recursos económicos\, sociales y ambientales.​ \n\n\nPara quienes está dirigido el Diplomado​\n\n\nA todas las personas interesadas en participar activamente en la conservación de la naturaleza en el bienestar propio y del planeta. \n\n\nA quienes buscan alternativas de desarrollo profesional. \n\n\nA Universitarios y profesores de instituciones académicas interesados en implementar: \n\n\nProgramas de producción de alimentos orgánicos\, \n\n\nEcología de vanguardia \n\n\nEducación ambiental en sus planteles. \n\n\n\n\nA organizaciones gubernamentales y no gubernamentales que buscan capacitación teórica y práctica para la implementación de estrategias de desarrollo sustentable en los sectores marginados de la población. \n\n\nA instituciones que buscan apoyar con conocimientos prácticos a comunidades de pequeños productores. \n\n\nA dependencias de gobierno y de la iniciativa privada que trabajan en la creación de programas de desarrollo comunitario y social. \n\n\nA Fundaciones y ONG’S que apoyen actividades educativas\, agro ecológicas y de desarrollo a pequeña y mediana escala. \n\n\nA quienes trabajan en el diseño y desarrollo tanto rural como urbano\, agrónomos\, economistas\, ecologistas\, ambientalistas\, arquitectos\, biólogos\, campesinos\, horticultores y en general a cualquier persona interesada en vivir más amigablemente con la naturaleza. \n\n\nA todas las personas que a mayor o menor escala desean producir alimentos sanos\, y a los que buscan un conocimiento más integral de la relación entre el hombre y la naturaleza. \n\n\nA quienes tienen una visión global y desean llevar a la práctica planes y proyectos sustentables\, así como a todos los que están interesados en la autosuficiencia y las tecnologías adecuadas. \n\n\nA quienes deseen construir o remodelar su casa\, granja o rancho\, para un mejor aprovechamiento de energías alternas. \n\n\nEjes Temáticos\n1. Regeneración de Suelos.\n2. Nutrición Vegetal.\n3. Control Natural de Plagas y Enfermedades.\n4. Permacultura\n5. Bio Construcción
URL:https://regenerationinternational.org/event/viii-diplomado-internacional-en-agricultura-organica-permacultura-cromatografia-y-microbiologia-de-suelos-del-07-de-febrero-al-18-de-febrero-del-2023/
LOCATION:Bacalar\, Quintana Roo\, Mexico
CATEGORIES:Event
ATTACH;FMTTYPE=image/png:https://regenerationinternational.org/wp-content/uploads/2018/10/calendar-2.png
END:VEVENT
END:VCALENDAR