BEGIN:VCALENDAR
VERSION:2.0
PRODID:-//Regeneration International - ECPv5.11.0//NONSGML v1.0//EN
CALSCALE:GREGORIAN
METHOD:PUBLISH
X-WR-CALNAME:Regeneration International
X-ORIGINAL-URL:https://regenerationinternational.org
X-WR-CALDESC:Events for Regeneration International
BEGIN:VTIMEZONE
TZID:America/New_York
BEGIN:DAYLIGHT
TZOFFSETFROM:-0500
TZOFFSETTO:-0400
TZNAME:EDT
DTSTART:20230312T070000
END:DAYLIGHT
BEGIN:STANDARD
TZOFFSETFROM:-0400
TZOFFSETTO:-0500
TZNAME:EST
DTSTART:20231105T060000
END:STANDARD
END:VTIMEZONE
BEGIN:VEVENT
DTSTART;VALUE=DATE:20230202
DTEND;VALUE=DATE:20230203
DTSTAMP:20230214T183011
CREATED:20230123T165223Z
LAST-MODIFIED:20230123T165223Z
UID:679505-1675296000-1675382399@regenerationinternational.org
SUMMARY:Webinar - Bosques Comestibles
DESCRIPTION:Aprender a diseñar un bosque comestible siguiendo los principios de la permacultura.\nConocer personas afines\, crear redes\nClases online en directo una vez a la semana\nTaller práctico opcional\nVideos grabados de las clases\nActividades de clase y de casa\nTutorías 1:1\nProyecto de diseño final de tu bosque comestible\nAsesoría y seguimiento para el diseño final\n\nNos hemos desconectado de nuestra naturaleza. La sociedad necesita herramientas urgentes que nos ayuden a mitigar lo que se nos viene encima: el agotamiento del planeta\, el cambio climático cada vez más evidente\, una agricultura y una ganadería cada vez más destructiva y la desigualdad\, hacen cada vez más necesario implementar estrategias que nos ayuden a regenerar e intentar revertir estos daños para las generaciones futuras. \nA través de este curso\, aprenderás las herramientas necesarias para empezar a diseñar tu propio bosque comestible\, jardín de alimentos o vergel. Sin duda alguna representan la forma de hacer agricultura más en consonancia con la Naturaleza y con el contexto mundial en el que estamos. \n¿Te imaginas recuperando suelos degradados\, creando vergeles de abundancia que ayuden a cambiar el rumbo? Entonces este es tu curso
URL:https://regenerationinternational.org/event/webinar-bosques-comestibles/
LOCATION:Online event
CATEGORIES:Event
ATTACH;FMTTYPE=image/png:https://regenerationinternational.org/wp-content/uploads/2018/10/calendar-2.png
END:VEVENT
END:VCALENDAR