BEGIN:VCALENDAR
VERSION:2.0
PRODID:-//Regeneration International - ECPv5.11.0//NONSGML v1.0//EN
CALSCALE:GREGORIAN
METHOD:PUBLISH
X-WR-CALNAME:Regeneration International
X-ORIGINAL-URL:https://regenerationinternational.org
X-WR-CALDESC:Events for Regeneration International
BEGIN:VTIMEZONE
TZID:America/New_York
BEGIN:DAYLIGHT
TZOFFSETFROM:-0500
TZOFFSETTO:-0400
TZNAME:EDT
DTSTART:20230312T070000
END:DAYLIGHT
BEGIN:STANDARD
TZOFFSETFROM:-0400
TZOFFSETTO:-0500
TZNAME:EST
DTSTART:20231105T060000
END:STANDARD
END:VTIMEZONE
BEGIN:VEVENT
DTSTART;VALUE=DATE:20230209
DTEND;VALUE=DATE:20230210
DTSTAMP:20230214T182439
CREATED:20230207T152337Z
LAST-MODIFIED:20230207T152337Z
UID:679695-1675900800-1675987199@regenerationinternational.org
SUMMARY:Webinar - Intellectual Property Regimes\, Seed Laws & Farmers’ Rights
DESCRIPTION:Featuring Mamadou Goita (Mali) – IRPAD; Larissa Packer (Brazil) GRAIN; Marvin Gómez (Honduras) SeedChange. \nSimultaneous translation to Spanish & French available \nSmallholder and Indigenous farmers steward the incredible crop diversity that most of the world relies on today. The need and ability for communities to save\, exchange and sell their seeds are recognized in the International Treaty on Plant Genetic Resources for Food and Agriculture (FAO) as Farmers’ Rights. Rather than recognize these rights\, most seed laws around the world are increasingly criminalizing farmer seed systems to facilitate the expansion of corporate agribusiness. However\, some countries are exploring or implementing progressive seed policies – thanks to the advocacy of civil society. This session will provide an overview on Farmers’ Rights and seed laws\, and speakers will explore the state of corporate control over seeds and the impact on food systems\, laws and intellectual property regimes facilitating the expansion of agribusiness\, and how peasant movements are mobilizing with alternatives in Latin America and West Africa. \nThis event is part of FOOD SOVEREIGNTY NOW!\, the 2023 edition of the Faculty of Environmental & Urban Change’s annual research seminar series\, in partnership with SeedChange. Inspired by La Via Campesina’s rallying cry\, FOOD SOVEREIGNTY NOW showcases the work of Indigenous\, small farmer and peasant movements across Turtle Island and the Global South. Four webinars held over the winter term will explore themes related to Food & Seed Sovereignty\, featuring movement leaders working to strengthen traditional and agroecological food systems and to defend women’s and farmers rights\, in the face of land grabbing\, restrictive intellectual property right regimes and policies designed to support the expansion of corporate agribusiness. \nPresented by York University’s Faculty of Environmental & Urban Change in partnership with SeedChange
URL:https://regenerationinternational.org/event/webinar-intellectual-property-regimes-seed-laws-farmers-rights/
LOCATION:Online event
CATEGORIES:Event
ATTACH;FMTTYPE=image/png:https://regenerationinternational.org/wp-content/uploads/2018/10/calendar-2.png
END:VEVENT
END:VCALENDAR