BEGIN:VCALENDAR
VERSION:2.0
PRODID:-//Regeneration International - ECPv5.11.0//NONSGML v1.0//EN
CALSCALE:GREGORIAN
METHOD:PUBLISH
X-WR-CALNAME:Regeneration International
X-ORIGINAL-URL:https://regenerationinternational.org
X-WR-CALDESC:Events for Regeneration International
BEGIN:VTIMEZONE
TZID:America/New_York
BEGIN:DAYLIGHT
TZOFFSETFROM:-0500
TZOFFSETTO:-0400
TZNAME:EDT
DTSTART:20230312T070000
END:DAYLIGHT
BEGIN:STANDARD
TZOFFSETFROM:-0400
TZOFFSETTO:-0500
TZNAME:EST
DTSTART:20231105T060000
END:STANDARD
END:VTIMEZONE
BEGIN:VEVENT
DTSTART;VALUE=DATE:20230301
DTEND;VALUE=DATE:20230302
DTSTAMP:20230214T182736
CREATED:20230113T172448Z
LAST-MODIFIED:20230113T172448Z
UID:679444-1677628800-1677715199@regenerationinternational.org
SUMMARY:Webinar - Introducción al manejo holístico
DESCRIPTION:Comenzá tu viaje por la ruta de la Ganadería Regenerativa\n\n\n\n\nLa Introducción al Manejo Holístico es una capacitación destinada a productores y asesores ganaderos\, donde se aprenden los fundamentos teóricos y los procedimientos de planificación que componen al Manejo Holístico. \nCuenta con más de 50 videos cortos junto a Pablo Borrelli\, y se refuerza con apuntes del Instituto Savory y ejercicios rápidos para ir afirmando el aprendizaje. \nSe puede cursar al ritmo del participante\, y al final de cada período de cursada tendremos un encuentro con el educador para conversar sobre el contenido del curso y comentar cómo el Manejo Holístico podría aplicarse a cada situación particular. \n 
URL:https://regenerationinternational.org/event/webinar-introduccion-al-manejo-holistico-2/
LOCATION:Online event
CATEGORIES:Event
ATTACH;FMTTYPE=image/png:https://regenerationinternational.org/wp-content/uploads/2018/10/calendar-2.png
END:VEVENT
END:VCALENDAR