BEGIN:VCALENDAR
VERSION:2.0
PRODID:-//Regeneration International - ECPv5.11.0//NONSGML v1.0//EN
CALSCALE:GREGORIAN
METHOD:PUBLISH
X-WR-CALNAME:Regeneration International
X-ORIGINAL-URL:https://regenerationinternational.org
X-WR-CALDESC:Events for Regeneration International
BEGIN:VTIMEZONE
TZID:America/New_York
BEGIN:DAYLIGHT
TZOFFSETFROM:-0500
TZOFFSETTO:-0400
TZNAME:EDT
DTSTART:20230312T070000
END:DAYLIGHT
BEGIN:STANDARD
TZOFFSETFROM:-0400
TZOFFSETTO:-0500
TZNAME:EST
DTSTART:20231105T060000
END:STANDARD
END:VTIMEZONE
BEGIN:VEVENT
DTSTART;VALUE=DATE:20230206
DTEND;VALUE=DATE:20230207
DTSTAMP:20230214T183259
CREATED:20230201T142524Z
LAST-MODIFIED:20230201T142524Z
UID:679622-1675641600-1675727999@regenerationinternational.org
SUMMARY:Webinar - Produce Food Safety Training Course
DESCRIPTION:Produce Farmers Are Food Handlers! Let’s do it safely and cost-effectively. \nA practical\, systems-based training\, designed by farmers for farmers\, to develop and implement scale-appropriate food safety plans. In this six week online class\, farmers are guided through the process of performing food safety risk assessments of their farm operations. They identify changes they wish to make\, and utilizing free online templates\, write a food safety plan to address them. The plans include farm maps and assessments\, food safety practices and standard operating policies\, and logs and record keeping systems. Training integrates co-management of the farm’s natural resources into the design of the food safety system. Practical discussion of scale-appropriate strategies for cost-effective implementation of food safety goals are part of each topic area. Following each session\, participants work on writing that portion of their food safety plan.
URL:https://regenerationinternational.org/event/webinar-produce-food-safety-training-course/
LOCATION:Online event
CATEGORIES:Event
ATTACH;FMTTYPE=image/png:https://regenerationinternational.org/wp-content/uploads/2018/10/calendar-2.png
END:VEVENT
END:VCALENDAR